BEGIN:VCALENDAR
VERSION:2.0
PRODID:-//Rues Principales Coaticook - ECPv6.15.17.1//NONSGML v1.0//EN
CALSCALE:GREGORIAN
METHOD:PUBLISH
X-WR-CALNAME:Rues Principales Coaticook
X-ORIGINAL-URL:https://rpcoaticook.ca
X-WR-CALDESC:Évènements pour Rues Principales Coaticook
REFRESH-INTERVAL;VALUE=DURATION:PT1H
X-Robots-Tag:noindex
X-PUBLISHED-TTL:PT1H
BEGIN:VTIMEZONE
TZID:America/Toronto
BEGIN:DAYLIGHT
TZOFFSETFROM:-0500
TZOFFSETTO:-0400
TZNAME:EDT
DTSTART:20240310T070000
END:DAYLIGHT
BEGIN:STANDARD
TZOFFSETFROM:-0400
TZOFFSETTO:-0500
TZNAME:EST
DTSTART:20241103T060000
END:STANDARD
BEGIN:DAYLIGHT
TZOFFSETFROM:-0500
TZOFFSETTO:-0400
TZNAME:EDT
DTSTART:20250309T070000
END:DAYLIGHT
BEGIN:STANDARD
TZOFFSETFROM:-0400
TZOFFSETTO:-0500
TZNAME:EST
DTSTART:20251102T060000
END:STANDARD
BEGIN:DAYLIGHT
TZOFFSETFROM:-0500
TZOFFSETTO:-0400
TZNAME:EDT
DTSTART:20260308T070000
END:DAYLIGHT
BEGIN:STANDARD
TZOFFSETFROM:-0400
TZOFFSETTO:-0500
TZNAME:EST
DTSTART:20261101T060000
END:STANDARD
END:VTIMEZONE
BEGIN:VEVENT
DTSTART;TZID=America/Toronto:20250927T080000
DTEND;TZID=America/Toronto:20250928T170000
DTSTAMP:20260420T050844
CREATED:20250320T170152Z
LAST-MODIFIED:20250320T170152Z
UID:753-1758960000-1759078800@rpcoaticook.ca
SUMMARY:Journée de la culture
DESCRIPTION:Visite des expositions\, 4e édition du Circuit des Arts Coaticook
URL:https://rpcoaticook.ca/evenement/journee-de-la-culture/
ATTACH;FMTTYPE=image/jpeg:https://rpcoaticook.ca/wp-content/uploads/2025/03/Musee-4.jpg
END:VEVENT
END:VCALENDAR