BEGIN:VCALENDAR
VERSION:2.0
PRODID:-//Rues Principales Coaticook - ECPv6.15.17.1//NONSGML v1.0//EN
CALSCALE:GREGORIAN
METHOD:PUBLISH
X-WR-CALNAME:Rues Principales Coaticook
X-ORIGINAL-URL:https://rpcoaticook.ca
X-WR-CALDESC:Évènements pour Rues Principales Coaticook
REFRESH-INTERVAL;VALUE=DURATION:PT1H
X-Robots-Tag:noindex
X-PUBLISHED-TTL:PT1H
BEGIN:VTIMEZONE
TZID:America/Toronto
BEGIN:DAYLIGHT
TZOFFSETFROM:-0500
TZOFFSETTO:-0400
TZNAME:EDT
DTSTART:20240310T070000
END:DAYLIGHT
BEGIN:STANDARD
TZOFFSETFROM:-0400
TZOFFSETTO:-0500
TZNAME:EST
DTSTART:20241103T060000
END:STANDARD
BEGIN:DAYLIGHT
TZOFFSETFROM:-0500
TZOFFSETTO:-0400
TZNAME:EDT
DTSTART:20250309T070000
END:DAYLIGHT
BEGIN:STANDARD
TZOFFSETFROM:-0400
TZOFFSETTO:-0500
TZNAME:EST
DTSTART:20251102T060000
END:STANDARD
BEGIN:DAYLIGHT
TZOFFSETFROM:-0500
TZOFFSETTO:-0400
TZNAME:EDT
DTSTART:20260308T070000
END:DAYLIGHT
BEGIN:STANDARD
TZOFFSETFROM:-0400
TZOFFSETTO:-0500
TZNAME:EST
DTSTART:20261101T060000
END:STANDARD
END:VTIMEZONE
BEGIN:VEVENT
DTSTART;TZID=America/Toronto:20250701T140000
DTEND;TZID=America/Toronto:20250701T180000
DTSTAMP:20260422T062938
CREATED:20250506T143333Z
LAST-MODIFIED:20250506T143348Z
UID:782-1751378400-1751392800@rpcoaticook.ca
SUMMARY:Fête du Canada à Coaticook
DESCRIPTION:
URL:https://rpcoaticook.ca/evenement/fete-du-canada-a-coaticook/
LOCATION:Parc Chartier\, Coaticook
END:VEVENT
BEGIN:VEVENT
DTSTART;TZID=America/Toronto:20250703T163000
DTEND;TZID=America/Toronto:20250703T210000
DTSTAMP:20260422T062938
CREATED:20250506T150727Z
LAST-MODIFIED:20250506T150727Z
UID:789-1751560200-1751576400@rpcoaticook.ca
SUMMARY:Canada's Circus Spectacular
DESCRIPTION:
URL:https://rpcoaticook.ca/evenement/canadas-circus-spectacular/
LOCATION:Centre Récréatif Gérard Couillard
END:VEVENT
BEGIN:VEVENT
DTSTART;TZID=America/Toronto:20250717T160000
DTEND;TZID=America/Toronto:20250717T180000
DTSTAMP:20260422T062938
CREATED:20250317T150443Z
LAST-MODIFIED:20250317T150443Z
UID:684-1752768000-1752775200@rpcoaticook.ca
SUMMARY:La Grande Échappée : Odyssée urbaine à Coaticook
DESCRIPTION:
URL:https://rpcoaticook.ca/evenement/la-grande-echappee-odyssee-urbaine-a-coaticook-3/
ATTACH;FMTTYPE=image/jpeg:https://rpcoaticook.ca/wp-content/uploads/2025/01/Signature_fond_Bleu_Texture.jpg
END:VEVENT
BEGIN:VEVENT
DTSTART;TZID=America/Toronto:20250718T160000
DTEND;TZID=America/Toronto:20250718T180000
DTSTAMP:20260422T062938
CREATED:20250313T181022Z
LAST-MODIFIED:20250313T181022Z
UID:671-1752854400-1752861600@rpcoaticook.ca
SUMMARY:La Grande Échappée : Odyssée urbaine à Coaticook
DESCRIPTION:
URL:https://rpcoaticook.ca/evenement/la-grande-echappee-odyssee-urbaine-a-coaticook/
ATTACH;FMTTYPE=image/jpeg:https://rpcoaticook.ca/wp-content/uploads/2025/01/Signature_fond_Bleu_Texture.jpg
END:VEVENT
BEGIN:VEVENT
DTSTART;TZID=America/Toronto:20250718T180000
DTEND;TZID=America/Toronto:20250718T210000
DTSTAMP:20260422T062938
CREATED:20250506T143801Z
LAST-MODIFIED:20250506T143801Z
UID:786-1752861600-1752872400@rpcoaticook.ca
SUMMARY:Tim Brink - Spectacle party de la construction
DESCRIPTION:
URL:https://rpcoaticook.ca/evenement/tim-brink-spectacle-party-de-la-construction/
LOCATION:Parc Chartier\, Coaticook
END:VEVENT
BEGIN:VEVENT
DTSTART;TZID=America/Toronto:20250719T160000
DTEND;TZID=America/Toronto:20250719T180000
DTSTAMP:20260422T062938
CREATED:20250313T181618Z
LAST-MODIFIED:20250313T181618Z
UID:677-1752940800-1752948000@rpcoaticook.ca
SUMMARY:La Grande Échappée : Odyssée urbaine à Coaticook
DESCRIPTION:
URL:https://rpcoaticook.ca/evenement/la-grande-echappee-odyssee-urbaine-a-coaticook-2/
ATTACH;FMTTYPE=image/jpeg:https://rpcoaticook.ca/wp-content/uploads/2025/01/Signature_fond_Bleu_Texture.jpg
END:VEVENT
BEGIN:VEVENT
DTSTART;TZID=America/Toronto:20250724T160000
DTEND;TZID=America/Toronto:20250724T180000
DTSTAMP:20260422T062938
CREATED:20250317T150612Z
LAST-MODIFIED:20250317T150612Z
UID:686-1753372800-1753380000@rpcoaticook.ca
SUMMARY:La Grande Échappée : Odyssée urbaine à Coaticook
DESCRIPTION:
URL:https://rpcoaticook.ca/evenement/la-grande-echappee-odyssee-urbaine-a-coaticook-4/
ATTACH;FMTTYPE=image/jpeg:https://rpcoaticook.ca/wp-content/uploads/2025/01/Signature_fond_Bleu_Texture.jpg
END:VEVENT
BEGIN:VEVENT
DTSTART;TZID=America/Toronto:20250725T160000
DTEND;TZID=America/Toronto:20250725T180000
DTSTAMP:20260422T062938
CREATED:20250317T150711Z
LAST-MODIFIED:20250317T150711Z
UID:688-1753459200-1753466400@rpcoaticook.ca
SUMMARY:La Grande Échappée : Odyssée urbaine à Coaticook
DESCRIPTION:
URL:https://rpcoaticook.ca/evenement/la-grande-echappee-odyssee-urbaine-a-coaticook-5/
ATTACH;FMTTYPE=image/jpeg:https://rpcoaticook.ca/wp-content/uploads/2025/01/Signature_fond_Bleu_Texture.jpg
END:VEVENT
BEGIN:VEVENT
DTSTART;TZID=America/Toronto:20250731T160000
DTEND;TZID=America/Toronto:20250731T180000
DTSTAMP:20260422T062938
CREATED:20250317T150809Z
LAST-MODIFIED:20250317T150809Z
UID:690-1753977600-1753984800@rpcoaticook.ca
SUMMARY:La Grande Échappée : Odyssée urbaine à Coaticook
DESCRIPTION:
URL:https://rpcoaticook.ca/evenement/la-grande-echappee-odyssee-urbaine-a-coaticook-6/
ATTACH;FMTTYPE=image/jpeg:https://rpcoaticook.ca/wp-content/uploads/2025/01/Signature_fond_Bleu_Texture.jpg
END:VEVENT
END:VCALENDAR